BEGIN:VCALENDAR
VERSION:2.0
PRODID:-//RIGHTHERE//CALENDARIZE IT V3.2//EN
BEGIN:VEVENT
UID:37206-events@baztan-bidasoa.com
DTSTART;VALUE=DATE:20220708
DTEND;VALUE=DATE:20220708
DTSTAMP:20220705T093936Z
SUMMARY:Elizondo. Exposición. «Amaiur. Memoria bat\, mila kolore»
RDATE;VALUE=PERIOD:20220709T000000/20220709T000000,20220710T000000/20220710
 T000000,20220712T000000/20220712T000000,20220713T000000/20220713T000000,20
  220714T000000/20220714T000000,20220715T000000/20220715T000000,20220716T00
   0000/20220716T000000,20220717T000000/20220717T000000,20220719T000000/202
    20719T000000,20220720T000000/20220720T000000,20220721T000000/20220721T0
     00000,20220722T000000/20220722T000000,20220723T000000/20220723T000000,
      20220724T000000/20220724T000000,20220726T000000/20220726T000000,20220
       727T000000/20220727T000000,20220728T000000/20220728T000000,20220729T
        000000/20220729T000000,20220730T000000/20220730T000000,20220731T000
         000/20220731T000000,20220802T000000/20220802T000000,20220803T00000
          0/20220803T000000,20220804T000000/20220804T000000,20220805T000000
           /20220805T000000,20220806T000000/20220806T000000,20220807T000000
            /20220807T000000,20220809T000000/20220809T000000,20220810T00000
             0/20220810T000000,20220811T000000/20220811T000000,20220812T000
              000/20220812T000000,20220813T000000/20220813T000000,20220814T
               000000/20220814T000000,20220816T000000/20220816T000000,20220
                817T000000/20220817T000000,20220818T000000/20220818T000000,
                 20220819T000000/20220819T000000,20220820T000000/20220820T0
                  00000,20220821T000000/20220821T000000,20220823T000000/202
                   20823T000000,20220824T000000/20220824T000000,20220825T00
                    0000/20220825T000000,20220826T000000/20220826T000000,20
                     220827T000000/20220827T000000,20220828T000000/20220828
                      T000000,20220830T000000/20220830T000000,20220831T0000
                       00/20220831T000000,20220901T000000/20220901T000000,2
                        0220902T000000/20220902T000000,20220903T000000/2022
                         0903T000000,20220904T000000/20220904T000000,202209
                          06T000000/20220906T000000,20220907T000000/2022090
                           7T000000,20220908T000000/20220908T000000,2022090
                            9T000000/20220909T000000,20220910T000000/202209
                             10T000000,20220911T000000/20220911T000000,2022
                              0913T000000/20220913T000000,20220914T000000/2
                               0220914T000000,20220915T000000/20220915T0000
                                00,20220916T000000/20220916T000000,20220917
                                 T000000/20220917T000000,20220918T000000/20
                                  220918T000000,20220920T000000/20220920T00
                                   0000,20220921T000000/20220921T000000,202
                                    20922T000000/20220922T000000,20220923T0
                                     00000/20220923T000000,20220924T000000/
                                      20220924T000000,20220925T000000/20220
                                       925T000000,20220927T000000/20220927T
                                        000000,20220928T000000/20220928T000
                                         000,20220929T000000/20220929T00000
                                          0,20220930T000000/20220930T000000
                                           ,20221001T000000/20221001T000000
                                            ,20221002T000000/20221002T00000
                                             0,20221004T000000/20221004T000
                                              000,20221005T000000/20221005T
                                               000000,20221006T000000/20221
                                                006T000000,20221007T000000/
                                                 20221007T000000,20221008T0
                                                  00000/20221008T000000,202
                                                   21009T000000/20221009T00
                                                    0000,20221011T000000/20
                                                     221011T000000,20221012
                                                      T000000/20221012T0000
                                                       00
URL:https://baztan-bidasoa.com/events/elizondo-exposicion-amaiur/
LOCATION:Baztan
END:VEVENT
END:VCALENDAR