BEGIN:VCALENDAR
VERSION:2.0
PRODID:-//RIGHTHERE//CALENDARIZE IT V3.2//EN
BEGIN:VEVENT
UID:33281-events@baztan-bidasoa.com
DTSTART;VALUE=DATE:20211029
DTEND;VALUE=DATE:20211029
DTSTAMP:20211015T090531Z
SUMMARY:Elizondo. Partidos de pelota
URL:https://baztan-bidasoa.com/events/elizondo-partidos-de-pelota/
LOCATION:Baztan
END:VEVENT
END:VCALENDAR