BEGIN:VCALENDAR
VERSION:2.0
PRODID:-//RIGHTHERE//CALENDARIZE IT V3.2//EN
BEGIN:VEVENT
UID:32748-events@baztan-bidasoa.com
DTSTART;VALUE=DATE:20211017
DTEND;VALUE=DATE:20211017
DTSTAMP:20210910T091229Z
SUMMARY:Oronoz. Baztan-Kantuz
URL:https://baztan-bidasoa.com/events/oronoz-baztan-kantuz-3/
LOCATION:Baztan
END:VEVENT
END:VCALENDAR