BEGIN:VCALENDAR
VERSION:2.0
PRODID:-//RIGHTHERE//CALENDARIZE IT V3.2//EN
BEGIN:VEVENT
UID:27511-events@baztan-bidasoa.com
DTSTART;VALUE=DATE:20200822
DTEND;VALUE=DATE:20200822
DTSTAMP:20200730T093823Z
SUMMARY:Zugarramurdi. Kultur’20. Concierto
URL:https://baztan-bidasoa.com/events/zugarramurdi-concierto-kultur20/
LOCATION:Zugarramurdi
END:VEVENT
END:VCALENDAR