BEGIN:VCALENDAR
VERSION:2.0
PRODID:-//RIGHTHERE//CALENDARIZE IT V3.2//EN
BEGIN:VEVENT
UID:27152-events@baztan-bidasoa.com
DTSTART;VALUE=DATE:20200703
DTEND;VALUE=DATE:20200703
DTSTAMP:20200704T065354Z
SUMMARY:Baztan.»La ruta del arte». Exposiciones
RDATE;VALUE=PERIOD:20200704T000000/20200704T000000,20200705T000000/20200705
 T000000,20200706T000000/20200706T000000,20200707T000000/20200707T000000,20
  200708T000000/20200708T000000,20200709T000000/20200709T000000,20200710T00
   0000/20200710T000000,20200711T000000/20200711T000000,20200712T000000/202
    00712T000000,20200713T000000/20200713T000000,20200714T000000/20200714T0
     00000,20200715T000000/20200715T000000,20200716T000000/20200716T000000,
      20200717T000000/20200717T000000,20200718T000000/20200718T000000,20200
       719T000000/20200719T000000,20200720T000000/20200720T000000,20200721T
        000000/20200721T000000,20200722T000000/20200722T000000,20200723T000
         000/20200723T000000,20200724T000000/20200724T000000,20200725T00000
          0/20200725T000000,20200726T000000/20200726T000000,20200727T000000
           /20200727T000000,20200728T000000/20200728T000000,20200729T000000
            /20200729T000000,20200730T000000/20200730T000000,20200731T00000
             0/20200731T000000,20200801T000000/20200801T000000,20200802T000
              000/20200802T000000,20200803T000000/20200803T000000,20200804T
               000000/20200804T000000,20200805T000000/20200805T000000,20200
                806T000000/20200806T000000,20200807T000000/20200807T000000,
                 20200808T000000/20200808T000000,20200809T000000/20200809T0
                  00000,20200810T000000/20200810T000000,20200811T000000/202
                   00811T000000,20200812T000000/20200812T000000,20200813T00
                    0000/20200813T000000,20200814T000000/20200814T000000,20
                     200815T000000/20200815T000000,20200816T000000/20200816
                      T000000,20200817T000000/20200817T000000,20200818T0000
                       00/20200818T000000,20200819T000000/20200819T000000,2
                        0200820T000000/20200820T000000,20200821T000000/2020
                         0821T000000,20200822T000000/20200822T000000,202008
                          23T000000/20200823T000000,20200824T000000/2020082
                           4T000000,20200825T000000/20200825T000000,2020082
                            6T000000/20200826T000000,20200827T000000/202008
                             27T000000,20200828T000000/20200828T000000,2020
                              0829T000000/20200829T000000,20200830T000000/2
                               0200830T000000,20200831T000000/20200831T0000
                                00
URL:https://baztan-bidasoa.com/events/baztan-la-ruta-del-arte-exposiciones/
LOCATION:Baztan
END:VEVENT
END:VCALENDAR